BEGIN:VCALENDAR
VERSION:2.0
PRODID:-//CSI Church Northern California - ECPv6.10.2//NONSGML v1.0//EN
CALSCALE:GREGORIAN
METHOD:PUBLISH
X-ORIGINAL-URL:https://csichurchnorcal.org
X-WR-CALDESC:Events for CSI Church Northern California
REFRESH-INTERVAL;VALUE=DURATION:PT1H
X-Robots-Tag:noindex
X-PUBLISHED-TTL:PT1H
BEGIN:VTIMEZONE
TZID:UTC
BEGIN:STANDARD
TZOFFSETFROM:+0000
TZOFFSETTO:+0000
TZNAME:UTC
DTSTART:20250101T000000
END:STANDARD
END:VTIMEZONE
BEGIN:VEVENT
DTSTART;TZID=UTC:20250828T210000
DTEND;TZID=UTC:20250828T213000
DTSTAMP:20260422T220955
CREATED:20250714T032223Z
LAST-MODIFIED:20250714T032223Z
UID:30120-1756414800-1756416600@csichurchnorcal.org
SUMMARY:Online Prayer
DESCRIPTION:Join the google meet  https://meet.google.com/znx-bcdp-mby
URL:https://csichurchnorcal.org/event/online-prayer-32/
LOCATION:CA
END:VEVENT
END:VCALENDAR